BEGIN:VCALENDAR
VERSION:2.0
PRODID:-//Aussie Drink Drive - ECPv4.9.4//NONSGML v1.0//EN
CALSCALE:GREGORIAN
METHOD:PUBLISH
X-WR-CALNAME:Aussie Drink Drive
X-ORIGINAL-URL:https://aussiedrinkdrive.com.au
X-WR-CALDESC:Events for Aussie Drink Drive
BEGIN:VTIMEZONE
TZID:"Australia/Melbourne"
BEGIN:STANDARD
TZOFFSETFROM:+1100
TZOFFSETTO:+1000
TZNAME:AEST
DTSTART:20200404T160000
END:STANDARD
BEGIN:DAYLIGHT
TZOFFSETFROM:+1000
TZOFFSETTO:+1100
TZNAME:AEDT
DTSTART:20201003T160000
END:DAYLIGHT
END:VTIMEZONE
BEGIN:VEVENT
DTSTART;TZID="Australia/Melbourne":20200203T110000
DTEND;TZID="Australia/Melbourne":20200203T140000
DTSTAMP:20200225T012049
CREATED:20190404T235653Z
LAST-MODIFIED:20200113T230409Z
UID:555-1580727600-1580738400@aussiedrinkdrive.com.au
SUMMARY:Melbourne - Full Program (Session 1 + 2)
DESCRIPTION:
URL:https://aussiedrinkdrive.com.au/session/melbourne-session-1/
LOCATION:Melbourne A\, Welsh Church - 320 La Trobe St\, Melbourne\, Melbourne\, VIC\, 3000\, Australia
CATEGORIES:Alcohol Programs,Full Sessions (1 + 2)
ORGANIZER;CN="Aussie%20Drink%20Drive%20Presenter":MAILTO:aussiedrinkdrive@bigpond.com
END:VEVENT
BEGIN:VEVENT
DTSTART;VALUE=DATE:20200205
DTEND;VALUE=DATE:20200206
DTSTAMP:20200225T012049
CREATED:20200205T034353Z
LAST-MODIFIED:20200205T034442Z
UID:1232-1580860800-1580947199@aussiedrinkdrive.com.au
SUMMARY:Test
DESCRIPTION:
URL:https://aussiedrinkdrive.com.au/session/test/
CATEGORIES:Alcohol Programs,Full Sessions (1 + 2)
END:VEVENT
BEGIN:VEVENT
DTSTART;TZID="Australia/Melbourne":20200210T180000
DTEND;TZID="Australia/Melbourne":20200210T210000
DTSTAMP:20200225T012049
CREATED:20190525T013857Z
LAST-MODIFIED:20200127T231043Z
UID:621-1581357600-1581368400@aussiedrinkdrive.com.au
SUMMARY:Melbourne - Full Program (Session 1 + 2)
DESCRIPTION:
URL:https://aussiedrinkdrive.com.au/session/melbourne-full-program-session-1-2-2/
LOCATION:Melbourne A\, Welsh Church - 320 La Trobe St\, Melbourne\, Melbourne\, VIC\, 3000\, Australia
CATEGORIES:Alcohol Programs,Full Sessions (1 + 2)
ORGANIZER;CN="Aussie%20Drink%20Drive%20Presenter":MAILTO:aussiedrinkdrive@bigpond.com
END:VEVENT
BEGIN:VEVENT
DTSTART;TZID="Australia/Melbourne":20200220T180000
DTEND;TZID="Australia/Melbourne":20200220T210000
DTSTAMP:20200225T012049
CREATED:20190405T000153Z
LAST-MODIFIED:20200130T055745Z
UID:558-1582221600-1582232400@aussiedrinkdrive.com.au
SUMMARY:Ringwood - Full Program (Session 1 + 2)
DESCRIPTION:
URL:https://aussiedrinkdrive.com.au/session/ringwood-session-1/
LOCATION:Ringwood\, Ringwood Church of Christ 11/15 Bedford Road\, Ringwood\, VIC\, 3134\, Australia
CATEGORIES:Alcohol Programs,Full Sessions (1 + 2)
ORGANIZER;CN="Aussie%20Drink%20Drive%20Presenter":MAILTO:aussiedrinkdrive@bigpond.com
END:VEVENT
END:VCALENDAR