BEGIN:VCALENDAR
VERSION:2.0
PRODID:-//Aussie Drink Drive - ECPv5.4.0//NONSGML v1.0//EN
CALSCALE:GREGORIAN
METHOD:PUBLISH
X-WR-CALNAME:Aussie Drink Drive
X-ORIGINAL-URL:https://aussiedrinkdrive.com.au
X-WR-CALDESC:Events for Aussie Drink Drive
BEGIN:VTIMEZONE
TZID:Australia/Melbourne
BEGIN:STANDARD
TZOFFSETFROM:+1100
TZOFFSETTO:+1000
TZNAME:AEST
DTSTART:20210403T160000
END:STANDARD
BEGIN:DAYLIGHT
TZOFFSETFROM:+1000
TZOFFSETTO:+1100
TZNAME:AEDT
DTSTART:20211002T160000
END:DAYLIGHT
END:VTIMEZONE
BEGIN:VEVENT
DTSTART;TZID=Australia/Melbourne:20210527T180000
DTEND;TZID=Australia/Melbourne:20210527T210000
DTSTAMP:20210227T045805
CREATED:20191127T011711Z
LAST-MODIFIED:20201217T014108Z
UID:1138-1622138400-1622149200@aussiedrinkdrive.com.au
SUMMARY:Ringwood - Full Program (Session 1 + 2)
DESCRIPTION:
URL:https://aussiedrinkdrive.com.au/session/dandenong-full-program-session-1-2-6/
LOCATION:Ringwood\, Ringwood Church of Christ 11/15 Bedford Road\, Ringwood\, VIC\, 3134\, Australia
CATEGORIES:Alcohol Programs,Full Sessions (1 + 2)
ORGANIZER;CN="Aussie%20Drink%20Drive%20Presenter":MAILTO:aussiedrinkdrive@bigpond.com
END:VEVENT
END:VCALENDAR